BEGIN:VCALENDAR
VERSION:2.0
PRODID:icalendar-ruby
CALSCALE:GREGORIAN
METHOD:PUBLISH
BEGIN:VEVENT
DTSTAMP:20260421T125950Z
UID:5-420535@stpaulswilliamsville.org
DTSTART:20260927T140000Z
DTEND:20260927T150000Z
CLASS:PUBLIC
CREATED:20260421T075200
DESCRIPTION:Sunday Worship
LAST-MODIFIED:20260421T075200
LOCATION:
SUMMARY:Sunday Worship
URL;VALUE=URI:https://stpaulswilliamsville.org/events/sunday-worship/2026-0
 9-27
END:VEVENT
END:VCALENDAR
