BEGIN:VCALENDAR
VERSION:2.0
PRODID:icalendar-ruby
CALSCALE:GREGORIAN
METHOD:PUBLISH
BEGIN:VEVENT
DTSTAMP:20260421T164400Z
UID:5-420847@stpaulswilliamsville.org
DTSTART:20261011T140000Z
DTEND:20261011T150000Z
CLASS:PUBLIC
CREATED:20260421T102736
DESCRIPTION:Sunday Worship
LAST-MODIFIED:20260421T102736
LOCATION:
SUMMARY:Sunday Worship
URL;VALUE=URI:https://stpaulswilliamsville.org/events/sunday-worship/2026-1
 0-11
END:VEVENT
END:VCALENDAR
