BEGIN:VCALENDAR
VERSION:2.0
PRODID:icalendar-ruby
CALSCALE:GREGORIAN
METHOD:PUBLISH
BEGIN:VEVENT
DTSTAMP:20260421T201224Z
UID:5-421465@stpaulswilliamsville.org
DTSTART:20261025T140000Z
DTEND:20261025T150000Z
CLASS:PUBLIC
CREATED:20260421T154328
DESCRIPTION:Sunday Worship
LAST-MODIFIED:20260421T154328
LOCATION:
SUMMARY:Sunday Worship
URL;VALUE=URI:https://stpaulswilliamsville.org/events/sunday-worship/2026-1
 0-25
END:VEVENT
END:VCALENDAR
