BEGIN:VCALENDAR
VERSION:2.0
PRODID:icalendar-ruby
CALSCALE:GREGORIAN
METHOD:PUBLISH
BEGIN:VEVENT
DTSTAMP:20260421T220559Z
UID:5-421466@stpaulswilliamsville.org
DTSTART:20261101T150000Z
DTEND:20261101T160000Z
CLASS:PUBLIC
CREATED:20260421T154328
DESCRIPTION:Sunday Worship
LAST-MODIFIED:20260421T154328
LOCATION:
SUMMARY:Sunday Worship
URL;VALUE=URI:https://stpaulswilliamsville.org/events/sunday-worship/2026-1
 1-01
END:VEVENT
END:VCALENDAR
